BEGIN:VCALENDAR
VERSION:2.0
PRODID:-//Eastmont Baptist Church - ECPv6.15.20//NONSGML v1.0//EN
CALSCALE:GREGORIAN
METHOD:PUBLISH
X-ORIGINAL-URL:https://eastmont.org
X-WR-CALDESC:Events for Eastmont Baptist Church
REFRESH-INTERVAL;VALUE=DURATION:PT1H
X-Robots-Tag:noindex
X-PUBLISHED-TTL:PT1H
BEGIN:VTIMEZONE
TZID:America/Chicago
BEGIN:DAYLIGHT
TZOFFSETFROM:-0600
TZOFFSETTO:-0500
TZNAME:CDT
DTSTART:20230312T080000
END:DAYLIGHT
BEGIN:STANDARD
TZOFFSETFROM:-0500
TZOFFSETTO:-0600
TZNAME:CST
DTSTART:20231105T070000
END:STANDARD
BEGIN:DAYLIGHT
TZOFFSETFROM:-0600
TZOFFSETTO:-0500
TZNAME:CDT
DTSTART:20240310T080000
END:DAYLIGHT
BEGIN:STANDARD
TZOFFSETFROM:-0500
TZOFFSETTO:-0600
TZNAME:CST
DTSTART:20241103T070000
END:STANDARD
BEGIN:DAYLIGHT
TZOFFSETFROM:-0600
TZOFFSETTO:-0500
TZNAME:CDT
DTSTART:20250309T080000
END:DAYLIGHT
BEGIN:STANDARD
TZOFFSETFROM:-0500
TZOFFSETTO:-0600
TZNAME:CST
DTSTART:20251102T070000
END:STANDARD
END:VTIMEZONE
BEGIN:VEVENT
DTSTART;TZID=America/Chicago:20241001T080000
DTEND;TZID=America/Chicago:20241031T170000
DTSTAMP:20260424T162423
CREATED:20240926T160004Z
LAST-MODIFIED:20241030T120735Z
UID:10000034-1727769600-1730394000@eastmont.org
SUMMARY:2024 Student Ministry Pecan Sale
DESCRIPTION:Who’s ready for a annual pecan sale?! \n  \nThis October\, support our Student Ministry and help us fund our summer mission trip to Orlando. Order from a student or visit us in the connecting hall to make a difference! Every purchase counts! \nPecan Choices:  \nAvailable in 1 lb. bags only – $15\nPecan Halves\nPecan Pieces \nAvailable in 1 lb. bags – $16  or  1/2 lb. bags – $11\nRoasted and Salted\nPraline\nHoney Glazed\nCinnamon\nCinnamon Honey\nMilk Chocolate\nDark Chocolate\nWhite Chocolate\nSweet Bama Burn \nCombo Pack – $25 \n\n  \n*FOR STUDENT USE ONLY*
URL:https://eastmont.org/event/2024-student-ministry-pecan-sale/
ATTACH;FMTTYPE=image/webp:https://eastmont.org/wp-content/uploads/2024/09/Pecan-Sale-Graphic.webp
END:VEVENT
BEGIN:VEVENT
DTSTART;TZID=America/Chicago:20241006T083000
DTEND;TZID=America/Chicago:20241006T130000
DTSTAMP:20260424T162423
CREATED:20241002T183016Z
LAST-MODIFIED:20241002T183016Z
UID:10000035-1728203400-1728219600@eastmont.org
SUMMARY:First Choice Drive-Thru Baby Shower
DESCRIPTION:We’re excited to support First Choice Women’s Medical Center with a Drive-Thru Baby Shower on Oct. 6th! Stop by from 8:30 am to 1 pm to drop off your baby gifts at the Connecting Hall awning. Your generosity can make a big impact!\n\n\n\nHere’s some items that are needed:\n• Wipes\n• Diapers (specifically sizes 3-5)\n• Bottles\n• Pacifiers\n• Towels\n• Footed sleepers\n• Books\n• Toys\n• Baby bathtubs\n• Umbrella strollers\n• Changing pads\n• Booster seats\n• Activity mats
URL:https://eastmont.org/event/first-choice-drive-thru-baby-shower/
ATTACH;FMTTYPE=image/webp:https://eastmont.org/wp-content/uploads/2024/10/babyshower.webp
END:VEVENT
END:VCALENDAR