BEGIN:VCALENDAR
VERSION:2.0
PRODID:-//Eastmont Baptist Church - ECPv6.15.20//NONSGML v1.0//EN
CALSCALE:GREGORIAN
METHOD:PUBLISH
X-ORIGINAL-URL:https://eastmont.org
X-WR-CALDESC:Events for Eastmont Baptist Church
REFRESH-INTERVAL;VALUE=DURATION:PT1H
X-Robots-Tag:noindex
X-PUBLISHED-TTL:PT1H
BEGIN:VTIMEZONE
TZID:America/Chicago
BEGIN:DAYLIGHT
TZOFFSETFROM:-0600
TZOFFSETTO:-0500
TZNAME:CDT
DTSTART:20240310T080000
END:DAYLIGHT
BEGIN:STANDARD
TZOFFSETFROM:-0500
TZOFFSETTO:-0600
TZNAME:CST
DTSTART:20241103T070000
END:STANDARD
BEGIN:DAYLIGHT
TZOFFSETFROM:-0600
TZOFFSETTO:-0500
TZNAME:CDT
DTSTART:20250309T080000
END:DAYLIGHT
BEGIN:STANDARD
TZOFFSETFROM:-0500
TZOFFSETTO:-0600
TZNAME:CST
DTSTART:20251102T070000
END:STANDARD
BEGIN:DAYLIGHT
TZOFFSETFROM:-0600
TZOFFSETTO:-0500
TZNAME:CDT
DTSTART:20260308T080000
END:DAYLIGHT
BEGIN:STANDARD
TZOFFSETFROM:-0500
TZOFFSETTO:-0600
TZNAME:CST
DTSTART:20261101T070000
END:STANDARD
END:VTIMEZONE
BEGIN:VEVENT
DTSTART;TZID=America/Chicago:20250126T150000
DTEND;TZID=America/Chicago:20250202T170000
DTSTAMP:20260424T100104
CREATED:20250109T155211Z
LAST-MODIFIED:20250109T155211Z
UID:10000045-1737903600-1738515600@eastmont.org
SUMMARY:Next Steps
DESCRIPTION:Eastmont Next Steps is a membership course for those over the age of 18 who are considering taking the next steps in the journey toward church membership. Before a person or a family joins Eastmont\, we want to ensure they understand who we are and why we’re here. The class is led by Eastmont pastors and address the basics of the gospel\, the purpose of the church\, expectations for membership\, and passion for service. \n  \nRegister here: https://eastmont.churchcenter.com/registrations/events/2697462
URL:https://eastmont.org/event/next-steps/
ATTACH;FMTTYPE=image/webp:https://eastmont.org/wp-content/uploads/2024/10/Next-Steps-Announcement-scaled.webp
END:VEVENT
END:VCALENDAR