BEGIN:VCALENDAR
VERSION:2.0
PRODID:-//Eastmont Baptist Church - ECPv6.15.20//NONSGML v1.0//EN
CALSCALE:GREGORIAN
METHOD:PUBLISH
X-ORIGINAL-URL:https://eastmont.org
X-WR-CALDESC:Events for Eastmont Baptist Church
REFRESH-INTERVAL;VALUE=DURATION:PT1H
X-Robots-Tag:noindex
X-PUBLISHED-TTL:PT1H
BEGIN:VTIMEZONE
TZID:America/Chicago
BEGIN:DAYLIGHT
TZOFFSETFROM:-0600
TZOFFSETTO:-0500
TZNAME:CDT
DTSTART:20240310T080000
END:DAYLIGHT
BEGIN:STANDARD
TZOFFSETFROM:-0500
TZOFFSETTO:-0600
TZNAME:CST
DTSTART:20241103T070000
END:STANDARD
BEGIN:DAYLIGHT
TZOFFSETFROM:-0600
TZOFFSETTO:-0500
TZNAME:CDT
DTSTART:20250309T080000
END:DAYLIGHT
BEGIN:STANDARD
TZOFFSETFROM:-0500
TZOFFSETTO:-0600
TZNAME:CST
DTSTART:20251102T070000
END:STANDARD
BEGIN:DAYLIGHT
TZOFFSETFROM:-0600
TZOFFSETTO:-0500
TZNAME:CDT
DTSTART:20260308T080000
END:DAYLIGHT
BEGIN:STANDARD
TZOFFSETFROM:-0500
TZOFFSETTO:-0600
TZNAME:CST
DTSTART:20261101T070000
END:STANDARD
END:VTIMEZONE
BEGIN:VEVENT
DTSTART;TZID=America/Chicago:20250329T113000
DTEND;TZID=America/Chicago:20250329T140000
DTSTAMP:20260424T114410
CREATED:20250115T150430Z
LAST-MODIFIED:20250115T150430Z
UID:10000046-1743247800-1743256800@eastmont.org
SUMMARY:Women's Ministry Luncheon — Dream Field Farms
DESCRIPTION:Join us for our Women’s Ministry Luncheon at Dream Field Farms with guest speaker\, Nichole Pinkham\, on Saturday\, March 29th from 11:30-2:00 pm in Union Springs\, Alabama. \nearly bird pricing (now- 2/16): $20 \nRegular pricing (2/17-3/16): $25 \nRegister here: https://eastmont.churchcenter.com/registrations/events/2711551
URL:https://eastmont.org/event/womens-ministry-luncheon-dream-field-farms/
CATEGORIES:Women's Ministry
ATTACH;FMTTYPE=image/webp:https://eastmont.org/wp-content/uploads/2025/01/Dreamfield-Farms-2.webp
END:VEVENT
END:VCALENDAR