BEGIN:VCALENDAR
VERSION:2.0
PRODID:-//Eastmont Baptist Church - ECPv6.15.20//NONSGML v1.0//EN
CALSCALE:GREGORIAN
METHOD:PUBLISH
X-ORIGINAL-URL:https://eastmont.org
X-WR-CALDESC:Events for Eastmont Baptist Church
REFRESH-INTERVAL;VALUE=DURATION:PT1H
X-Robots-Tag:noindex
X-PUBLISHED-TTL:PT1H
BEGIN:VTIMEZONE
TZID:America/Chicago
BEGIN:DAYLIGHT
TZOFFSETFROM:-0600
TZOFFSETTO:-0500
TZNAME:CDT
DTSTART:20230312T080000
END:DAYLIGHT
BEGIN:STANDARD
TZOFFSETFROM:-0500
TZOFFSETTO:-0600
TZNAME:CST
DTSTART:20231105T070000
END:STANDARD
BEGIN:DAYLIGHT
TZOFFSETFROM:-0600
TZOFFSETTO:-0500
TZNAME:CDT
DTSTART:20240310T080000
END:DAYLIGHT
BEGIN:STANDARD
TZOFFSETFROM:-0500
TZOFFSETTO:-0600
TZNAME:CST
DTSTART:20241103T070000
END:STANDARD
BEGIN:DAYLIGHT
TZOFFSETFROM:-0600
TZOFFSETTO:-0500
TZNAME:CDT
DTSTART:20250309T080000
END:DAYLIGHT
BEGIN:STANDARD
TZOFFSETFROM:-0500
TZOFFSETTO:-0600
TZNAME:CST
DTSTART:20251102T070000
END:STANDARD
END:VTIMEZONE
BEGIN:VEVENT
DTSTART;TZID=America/Chicago:20241110T080000
DTEND;TZID=America/Chicago:20241110T093000
DTSTAMP:20260424T131632
CREATED:20241002T183813Z
LAST-MODIFIED:20241002T183813Z
UID:10000037-1731225600-1731231000@eastmont.org
SUMMARY:Veterans Day Breakfast
DESCRIPTION:In celebration of Veteran’s Day\, Eastmont invites those in our church family who are veterans\, their spouses\, and widows/widowers of veterans to a breakfast in their honor on Sunday\, November 10th at 8:00 am in Fellowship Hall. \nReservations are not required but are helpful for planning.\n \nRegister below:\nhttps://eastmont.churchcenter.com/registrations/events/2535462
URL:https://eastmont.org/event/veterans-day-breakfast/
ATTACH;FMTTYPE=image/webp:https://eastmont.org/wp-content/uploads/2024/10/Veterans-Breakfast.webp
END:VEVENT
END:VCALENDAR