BEGIN:VCALENDAR
VERSION:2.0
PRODID:-//Eastmont Baptist Church - ECPv6.15.20//NONSGML v1.0//EN
CALSCALE:GREGORIAN
METHOD:PUBLISH
X-ORIGINAL-URL:https://eastmont.org
X-WR-CALDESC:Events for Eastmont Baptist Church
REFRESH-INTERVAL;VALUE=DURATION:PT1H
X-Robots-Tag:noindex
X-PUBLISHED-TTL:PT1H
BEGIN:VTIMEZONE
TZID:America/Chicago
BEGIN:DAYLIGHT
TZOFFSETFROM:-0600
TZOFFSETTO:-0500
TZNAME:CDT
DTSTART:20240310T080000
END:DAYLIGHT
BEGIN:STANDARD
TZOFFSETFROM:-0500
TZOFFSETTO:-0600
TZNAME:CST
DTSTART:20241103T070000
END:STANDARD
BEGIN:DAYLIGHT
TZOFFSETFROM:-0600
TZOFFSETTO:-0500
TZNAME:CDT
DTSTART:20250309T080000
END:DAYLIGHT
BEGIN:STANDARD
TZOFFSETFROM:-0500
TZOFFSETTO:-0600
TZNAME:CST
DTSTART:20251102T070000
END:STANDARD
BEGIN:DAYLIGHT
TZOFFSETFROM:-0600
TZOFFSETTO:-0500
TZNAME:CDT
DTSTART:20260308T080000
END:DAYLIGHT
BEGIN:STANDARD
TZOFFSETFROM:-0500
TZOFFSETTO:-0600
TZNAME:CST
DTSTART:20261101T070000
END:STANDARD
END:VTIMEZONE
BEGIN:VEVENT
DTSTART;TZID=America/Chicago:20250102T080000
DTEND;TZID=America/Chicago:20250104T170000
DTSTAMP:20260424T101414
CREATED:20241023T134755Z
LAST-MODIFIED:20241023T134755Z
UID:10000040-1735804800-1736010000@eastmont.org
SUMMARY:Passion 2025
DESCRIPTION:Passion 2025 is a gathering for the collegiate generation and is open to anyone 18-25 years old. High school seniors may attend even if they are not 18 years old. Adult ministry leaders are encouraged to attend with their students. The cost is $170. \nFirst-time attendees use the following code for a $20 discount: FIRST \nRegister here: https://eastmont.churchcenter.com/registrations/events/2573514
URL:https://eastmont.org/event/passion-2025/
CATEGORIES:College
ATTACH;FMTTYPE=image/webp:https://eastmont.org/wp-content/uploads/2024/10/Passion-25-Square.webp
END:VEVENT
BEGIN:VEVENT
DTSTART;VALUE=DATE:20250117
DTEND;VALUE=DATE:20250121
DTSTAMP:20260424T101414
CREATED:20241011T195813Z
LAST-MODIFIED:20241011T195846Z
UID:10000039-1737072000-1737417599@eastmont.org
SUMMARY:Winter Retreat 2025
DESCRIPTION:
URL:https://eastmont.org/event/winter-retreat-2025/
CATEGORIES:Students
ATTACH;FMTTYPE=image/webp:https://eastmont.org/wp-content/uploads/2024/10/JAN-LINEUP-scaled.webp
END:VEVENT
BEGIN:VEVENT
DTSTART;TZID=America/Chicago:20250125T073000
DTEND;TZID=America/Chicago:20250125T150000
DTSTAMP:20260424T101414
CREATED:20241114T210744Z
LAST-MODIFIED:20241114T210759Z
UID:10000041-1737790200-1737817200@eastmont.org
SUMMARY:Kept
DESCRIPTION:Experience a day of refreshing connections and biblical guidance\, unleashing every woman’s calling to advance the Gospel and disciple others in her influence. \nHosted by Well Worn Paths\, “Kept” takes place at Crossroads Community Church in Elmore. We will meet at Eastmont at 7:45 am and travel by bus for those interested in riding together. Cost to attend is $10. The deadline to register is December 16th.\n \nEvent Date: January 25\, 2025 \nhttps://eastmont.churchcenter.com/unproxy/registrations/events/2610312
URL:https://eastmont.org/event/kept/
CATEGORIES:Women's Ministry
ATTACH;FMTTYPE=image/webp:https://eastmont.org/wp-content/uploads/2024/11/Kept-Womens-Evangelism-Conference.webp
END:VEVENT
BEGIN:VEVENT
DTSTART;TZID=America/Chicago:20250126T150000
DTEND;TZID=America/Chicago:20250202T170000
DTSTAMP:20260424T101414
CREATED:20250109T155211Z
LAST-MODIFIED:20250109T155211Z
UID:10000045-1737903600-1738515600@eastmont.org
SUMMARY:Next Steps
DESCRIPTION:Eastmont Next Steps is a membership course for those over the age of 18 who are considering taking the next steps in the journey toward church membership. Before a person or a family joins Eastmont\, we want to ensure they understand who we are and why we’re here. The class is led by Eastmont pastors and address the basics of the gospel\, the purpose of the church\, expectations for membership\, and passion for service. \n  \nRegister here: https://eastmont.churchcenter.com/registrations/events/2697462
URL:https://eastmont.org/event/next-steps/
ATTACH;FMTTYPE=image/webp:https://eastmont.org/wp-content/uploads/2024/10/Next-Steps-Announcement-scaled.webp
END:VEVENT
END:VCALENDAR